BEGIN:VCALENDAR
VERSION:2.0
PRODID:-//Semiconductor Sweden - ECPv6.15.20//NONSGML v1.0//EN
CALSCALE:GREGORIAN
METHOD:PUBLISH
X-WR-CALNAME:Semiconductor Sweden
X-ORIGINAL-URL:https://semiconsweden.com
X-WR-CALDESC:Events for Semiconductor Sweden
REFRESH-INTERVAL;VALUE=DURATION:PT1H
X-Robots-Tag:noindex
X-PUBLISHED-TTL:PT1H
BEGIN:VTIMEZONE
TZID:Europe/Stockholm
BEGIN:DAYLIGHT
TZOFFSETFROM:+0100
TZOFFSETTO:+0200
TZNAME:CEST
DTSTART:20250330T010000
END:DAYLIGHT
BEGIN:STANDARD
TZOFFSETFROM:+0200
TZOFFSETTO:+0100
TZNAME:CET
DTSTART:20251026T010000
END:STANDARD
BEGIN:DAYLIGHT
TZOFFSETFROM:+0100
TZOFFSETTO:+0200
TZNAME:CEST
DTSTART:20260329T010000
END:DAYLIGHT
BEGIN:STANDARD
TZOFFSETFROM:+0200
TZOFFSETTO:+0100
TZNAME:CET
DTSTART:20261025T010000
END:STANDARD
BEGIN:DAYLIGHT
TZOFFSETFROM:+0100
TZOFFSETTO:+0200
TZNAME:CEST
DTSTART:20270328T010000
END:DAYLIGHT
BEGIN:STANDARD
TZOFFSETFROM:+0200
TZOFFSETTO:+0100
TZNAME:CET
DTSTART:20271031T010000
END:STANDARD
END:VTIMEZONE
BEGIN:VEVENT
DTSTART;TZID=Europe/Stockholm:20260423T080000
DTEND;TZID=Europe/Stockholm:20260423T170000
DTSTAMP:20260423T165028
CREATED:20260423T061340Z
LAST-MODIFIED:20260423T061340Z
UID:6558-1776931200-1776963600@semiconsweden.com
SUMMARY:Summer School: Design your own RISC‑V processor
DESCRIPTION:International Summer School on Digital Chip Design \nHave you ever wondered how a computer really works—down to the chip itself? You are invited to an intensive three-day International Summer School on Digital Chip Design\, where you will design and run your own RISC‑V processor in hardware. \nLed by Per Andersson\, PhD\, Senior Advisor at Lund University\, the summer school offers a hands-on introduction to modern digital chip design using open‑source tools and the RISC‑V architecture. \nDuring the course\, participants work step by step from basic principles to a fully functioning processor implemented on an FPGA (field-programmable gate array). Through tutorials\, guided lab sessions\, and teamwork\, you will gain practical insight into how real programs are executed in hardware; no prior experience in chip design required. Basic programming and mathematics skills are recommended. \nThe summer school runs 8–10 June 2026 at Inspira and The Spark\, Medicon Village in Lund\, combining morning lectures with afternoon lab work. The programme also includes networking activities\, a study visit to industry\, and opportunities to connect with fellow participants and experts in the field. \nParticipation is free of charge. All necessary FPGA hardware is provided\, and the only requirement is a modern laptop with a web browser. Registration is open until 1 June 2026. \nFor more information and registration: Summer school 8-10 June: RISC-V on a chip in three days \nThe Summer School is funded by Swedish Chips Competence Center.
URL:https://semiconsweden.com/event/summer-school-design-your-own-risc-v-processor/
LOCATION:The Spark\, Medicon Village in Lund\, Scheelevägen 1\, Lund\, 22363\, Sweden
CATEGORIES:Education,Training
ATTACH;FMTTYPE=image/png:https://semiconsweden.com/wp-content/uploads/2026/04/Skarmbild-2026-04-23-080951.png
END:VEVENT
END:VCALENDAR